BEGIN:VCALENDAR
VERSION:2.0
PRODID:-//wp-events-plugin.com//7.2.3.1//EN
TZID:Europe/Zurich
X-WR-TIMEZONE:Europe/Zurich
BEGIN:VEVENT
UID:135@iaa.ch
DTSTART;TZID=Europe/Zurich:20180822T183000
DTEND;TZID=Europe/Zurich:20180822T235900
DTSTAMP:20180817T092329Z
URL:https://www.iaa.ch/events/iaa-young-professionals-swiss-chapter-sommer
 fest-2018/
SUMMARY:IAA Young Professionals & Swiss Chapter: Sommerfest 2018
DESCRIPTION:Wir laden Dich herzlich zum jährlichen und mittlerweile tradit
 ionellen IAA Swiss Young Professionals Sommerfest 2018 ein. Auch dieses Ja
 hr in offizieller Kooperation mit dem IAA Swiss Chapter. Das Sommer-BBQ mi
 t Bier findet im Restaurant «Dreierlei» in gemütlicher Runde in Zürich
 -Wiedikon statt.\n\nWir freuen uns viele Mitglieder\, ob Young Professiona
 l oder Swiss Chapter\, begrüssen zu dürfen. Selbstverständlich sind abe
 r auch potentielle neue Mitglieder der IAA herzlich eingeladen.\n\nIAA You
 ng Professionals &amp\; Swiss Chapter\n\nMittwoch\, 22. August 2018\, ab 1
 8.30 Uhr bis Mitternacht\nRestaurant Dreierlei\, Zweierstrasse 114\, 8003 
 Zürich\n\nKostenlos für Mitglieder der IAA\nCHF 50 für Gäste
ATTACH;FMTTYPE=image/jpeg:https://www.iaa.ch/wp-content/uploads/BBQ17-e152
 0867802913.jpg
CATEGORIES:Swiss Chapter,Young Professionals
LOCATION:Restaurant Dreierlei\, Zweierstrasse 114\, Zürich\, 8003\, Schwei
 z
GEO:47.3715307;8.520905500000026
X-APPLE-STRUCTURED-LOCATION;VALUE=URI;X-ADDRESS=Zweierstrasse 114\, Zürich
 \, 8003\, Schweiz;X-APPLE-RADIUS=100;X-TITLE=Restaurant Dreierlei:geo:47.3
 715307,8.520905500000026
END:VEVENT
BEGIN:VTIMEZONE
TZID:Europe/Zurich
X-LIC-LOCATION:Europe/Zurich
BEGIN:DAYLIGHT
DTSTART:20180325T030000
TZOFFSETFROM:+0100
TZOFFSETTO:+0200
TZNAME:CEST
END:DAYLIGHT
END:VTIMEZONE
END:VCALENDAR