BEGIN:VCALENDAR
VERSION:2.0
PRODID:-//wp-events-plugin.com//7.2.3.1//EN
TZID:Europe/Zurich
X-WR-TIMEZONE:Europe/Zurich
BEGIN:VEVENT
UID:45@iaa.ch
DTSTART;TZID=Europe/Zurich:20130917T113000
DTEND;TZID=Europe/Zurich:20130917T140000
DTSTAMP:20130830T055622Z
URL:https://www.iaa.ch/events/iaa-luncheon-ohne-google-geht-es-nicht/
SUMMARY:IAA Luncheon: Ohne Google geht es nicht
DESCRIPTION:Suchmaschinenmarketing hat sich zur wichtigsten Online-Marketin
 gmassnahme entwickelt: Die Google-Budgets sind längst weit höher als jen
 e für alle anderen Online-Kanäle\, und sie wachsen weiter. Das hat einen
  guten Grund: Suchmaschinenmarketing ist die effizienteste und effektivste
  Methode\, um Kunden anzusprechen - und das längst nicht mehr nur fürs O
 nline-Business.\n\nLukas Stuber zeigt in seinem Referat die grundlegenden 
 Konzepte des Suchmaschinenmarketings auf und stellt dar\, welche strategis
 che Bedeutung heute Google AdWords und dem Thema Suchmaschinenoptimierung 
 zukommt.\n\nLukas Stuber ist Mitinhaber und Geschäftsführer der Yourposi
 tion GmbH und seit dem Jahr 2000 im Suchmaschinenmarketing tätig. Er ist 
 als Dozent an Fachhochschulen in Luzern\, Basel und Olten tätig und einer
  der gefragtesten Referenten der Schweiz im Bereich Suchmaschinenmarketing
 .\n\nAnmeldung bis 13. September 2013 an tamara.schmid@goldbachmedia.ch
LOCATION:Valmann\, Talstrasse 58\, Zürich\, 8001\, Schweiz
GEO:47.3703687;8.536081299999978
X-APPLE-STRUCTURED-LOCATION;VALUE=URI;X-ADDRESS=Talstrasse 58\, Zürich\, 8
 001\, Schweiz;X-APPLE-RADIUS=100;X-TITLE=Valmann:geo:47.3703687,8.53608129
 9999978
END:VEVENT
BEGIN:VTIMEZONE
TZID:Europe/Zurich
X-LIC-LOCATION:Europe/Zurich
BEGIN:DAYLIGHT
DTSTART:20130331T030000
TZOFFSETFROM:+0100
TZOFFSETTO:+0200
TZNAME:CEST
END:DAYLIGHT
END:VTIMEZONE
END:VCALENDAR