BEGIN:VCALENDAR
VERSION:2.0
PRODID:-//wp-events-plugin.com//7.2.3.1//EN
TZID:Europe/Zurich
X-WR-TIMEZONE:Europe/Zurich
BEGIN:VEVENT
UID:240@iaa.ch
DTSTART;TZID=Europe/Zurich:20260507T113000
DTEND;TZID=Europe/Zurich:20260507T140000
DTSTAMP:20260309T125141Z
URL:https://www.iaa.ch/events/iaa-luncheon-merci-migros-ein-jubilaeum-das-
 danke-sagt/
SUMMARY:IAA Luncheon. Merci Migros - Ein Jubiläum\, das Danke sagt
DESCRIPTION:Wie feiert man ein Jubiläum\, ohne sich selbst zu feiern?\nEin
 e der bekanntesten Marken der Schweiz hat für ihr 100-jähriges Jubiläum
  einen ungewöhnlichen Weg gewählt: Für ein ganzes Jahr legte die Migros
  ihren eigenen Namen ab und stellte stattdessen die Menschen in den Mittel
 punkt\, die sie seit einem Jahrhundert begleiten – im Alltag\, an der Ka
 sse\, in den Filialen und in der ganzen Schweiz.\n\n\nAus Migros wurde „
 Merci“ - Eine radikale\, einfache Idee\nAnstatt das Jubiläum als Selbst
 feier zu inszenieren\, bedankte sich die Migros bei all jenen\, die sie zu
  dem gemacht haben\, was sie heute ist. Mit der Umbenennung in „Merci“
  wurde das Jubiläum zu einer landesweiten Danksagung. Das Merci-Logo wurd
 e zum zentralen Zeichen – sichtbar\, verständlich und nahbar. Ein Symbo
 l\, das Wärme schafft\, ohne grosse Worte zu brauchen.\n\n\nEine Kampagne
 \, die bewegt\nDie Kampagne bewies über mehrere Kanäle hinweg\, dass sic
 h Danke sagen lohnt – emotional\, gesellschaftlich und wirtschaftlich. S
 ie zeigte\, wie eine Marke durch echte Wertschätzung eine tiefere Verbind
 ung zur Gesellschaft schaffen kann.\n\n\nExklusiver Blick hinter die Kulis
 sen\nDie IAA lädt Sie herzlich ein\, am 7. Mai 2026\, einen exklusiven Bl
 ick hinter die Kampagnenplanung zu werfen. Erfahren Sie am IAA-Luncheon au
 s erster Hand von Désirée Strassmann (Leiterin Campaigning Migros) und M
 artin Koch (Leiter Sponsoring &amp\; Events Migros)\, was es braucht\, um 
 ein solches Jubiläum mit der ganzen Schweiz zu feiern.\nDie beiden Refere
 nten geben einen umfassenden Rückblick auf die Kampagne und beleuchten de
 n Erfolg der kommunikativen Massnahmen\, die das Jubiläum zu einem besond
 eren Erlebnis für die ganze Schweiz gemacht haben.\n\nProgramm:\n11.30 Uh
 r: Akkreditierung und Apéro\n12.00 – 13.00 Uhr: Referate\n13.00 – 14.
 00 Uhr: Networking Lunch (Bistro RiffRaff)\n\nAufnahmen:\nAn der Veranstal
 tung wird fotografiert und gefilmt. Die Veranstaltungs-Teilnehmer:innen si
 nd einverstanden\, dass wir Fotos &amp\; Videos des Events publizieren.\n\
 nLocation:\nKino RiffRaff\, Neugasse 63\, 8005 Zürich\n\nKosten:\nKostenl
 os für IAA- und YP-Mitglieder. Gäste bezahlen Fr. 180.-.
CATEGORIES:Swiss Chapter
LOCATION:Kino RiffRaff\, Neugasse 63\,  8005 Zürich\, Schweiz
X-APPLE-STRUCTURED-LOCATION;VALUE=URI;X-ADDRESS=Neugasse 63\,  8005 Zürich
 \, Schweiz;X-APPLE-RADIUS=100;X-TITLE=Kino RiffRaff:geo:0,0
END:VEVENT
BEGIN:VTIMEZONE
TZID:Europe/Zurich
X-LIC-LOCATION:Europe/Zurich
BEGIN:DAYLIGHT
DTSTART:20260329T030000
TZOFFSETFROM:+0100
TZOFFSETTO:+0200
TZNAME:CEST
END:DAYLIGHT
END:VTIMEZONE
END:VCALENDAR