BEGIN:VCALENDAR
VERSION:2.0
PRODID:-//wp-events-plugin.com//7.2.3.1//EN
TZID:Europe/Zurich
X-WR-TIMEZONE:Europe/Zurich
BEGIN:VEVENT
UID:26@iaa.ch
DTSTART;TZID=Europe/Zurich:20111122T180000
DTEND;TZID=Europe/Zurich:20111122T210000
DTSTAMP:20130822T055422Z
URL:https://www.iaa.ch/events/das-storytelling-mit-anschliessendem-network
 ing-und-steh-dinner/
SUMMARY:Das Storytelling mit anschliessendem Networking und Steh Dinner
DESCRIPTION:Dominik Stibal\, Head of Condor Films\n\nSocial Media für unse
 r Unternehmen\, wo liegt der Sinn? Doch immer wieder wurden Fragen gestell
 t: könnte man den TV Spot auf das iPad bringen? Oder auf das iPhone? Wür
 de das die Präsenz des Unternehmens in sozialen Netzwerken erhöhen? Oder
  sollte man eher Mega-Displays in Orten installieren\, in denen viele Mens
 chen vorbeilaufen und mittels Mobile Marketing Konsumenten dazu animieren\
 , den aktuellen Werbespot auf ihr Handy zu laden? Zu der Frage Was und Wo 
 gesellt sich schnell das Wie\, denn das Wie bestimmt den Auftritt\, das Wi
 e ist die Coporate Identity des Unternehmens\, und das Wie gilt es zu defi
 nieren. Nicht nur für Bild und Text sondern auch für den gesamten audiov
 isuellen Auftritt. Das Was\, Wie und Wo bestimmt die Bewegtbildstratgie.\n
 Dies und und ein Exkurs in die Welt des Storytellings erwarten sie in zwei
  Vorträgen von Dominik Stibal (Head of Condor BB/A) und Olivier Egli (Exe
 cutive Creative Producer Condor BB/A) beim After Work Event in den Räumli
 chkeiten der Condor Films AG.\n\n[separator]\n\nKontakt: events_yp@iaa.ch\
 nE-Mail: events_yp@iaa.ch
LOCATION:Condor Films\, Kreuzstrasse 2\, Zürich\, Schweiz
GEO:47.362497;8.547850100000005
X-APPLE-STRUCTURED-LOCATION;VALUE=URI;X-ADDRESS=Kreuzstrasse 2\, Zürich\, 
 Schweiz;X-APPLE-RADIUS=100;X-TITLE=Condor Films:geo:47.362497,8.5478501000
 00005
END:VEVENT
BEGIN:VTIMEZONE
TZID:Europe/Zurich
X-LIC-LOCATION:Europe/Zurich
BEGIN:STANDARD
DTSTART:20111030T020000
TZOFFSETFROM:+0200
TZOFFSETTO:+0100
TZNAME:CET
END:STANDARD
END:VTIMEZONE
END:VCALENDAR